BEGIN:VCALENDAR
VERSION:2.0
PRODID:-//Coastguard Canterbury - ECPv4.6.9//NONSGML v1.0//EN
CALSCALE:GREGORIAN
METHOD:PUBLISH
X-WR-CALNAME:Coastguard Canterbury
X-ORIGINAL-URL:https://www.coastguardcanterbury.org.nz
X-WR-CALDESC:Events for Coastguard Canterbury
BEGIN:VEVENT
DTSTART;TZID=UTC+12:20180114T080000
DTEND;TZID=UTC+12:20180114T110000
DTSTAMP:20180121T182043
CREATED:20171219T001733Z
LAST-MODIFIED:20171219T021025Z
UID:252-1515916800-1515927600@www.coastguardcanterbury.org.nz
SUMMARY:Old 4 New - Lifejaket Swap
DESCRIPTION:The Old4New Lifejacket Upgrade\nKicking off again for the summer\, coming to Christchurch on the 14th of January! \nBring down your old\, damaged or worn lifejackets to the Old4New van. In return get a great discount on a brand new\, fit-for-purpose Hutchwilco lifejacket. \nOver the last three years of the campaign over 8\,000 lifejackets have been traded in\, meaning thousands of boaties are now safer on the water. \nFind out where else the Old 4 New Van is going to be.\nwww.old4new.nz \n \n
URL:https://www.coastguardcanterbury.org.nz/event/old-4-new-lifejaket-swap/
LOCATION:247 Dyers Road\, Bromley\, Christchurch\, New Zealand
ATTACH;FMTTYPE=image/jpeg:https://www.coastguardcanterbury.org.nz/wp-content/uploads/2017/12/O4N-Website-Tile.jpg
END:VEVENT
BEGIN:VEVENT
DTSTART;VALUE=DATE:20180120
DTEND;VALUE=DATE:20180121
DTSTAMP:20180121T182043
CREATED:20180110T210006Z
LAST-MODIFIED:20180116T020318Z
UID:256-1516406400-1516492799@www.coastguardcanterbury.org.nz
SUMMARY:Coastguard Canterbury 2018 Open Day
DESCRIPTION:\nCome see us for the day\, ask any boating questions\, come see our boat\, find out how you can volunteer\, enter our National Coastguard Summer Lottery & much more. \n  \n
URL:https://www.coastguardcanterbury.org.nz/event/coastguard-canterbury-2018-open-day/
LOCATION:Lyttelton\, New Zealand
ATTACH;FMTTYPE=image/png:https://www.coastguardcanterbury.org.nz/wp-content/uploads/2017/11/Untitled.png
ORGANIZER;CN="Coastguard%20Canterbury":MAILTO:sponsorship@coastguardcanterbury.org.nz
END:VEVENT
BEGIN:VEVENT
DTSTART;TZID=UTC+12:20180120T090000
DTEND;TZID=UTC+12:20180120T150000
DTSTAMP:20180121T182043
CREATED:20180115T210015Z
LAST-MODIFIED:20180116T020638Z
UID:260-1516438800-1516460400@www.coastguardcanterbury.org.nz
SUMMARY:Coastguard Canterbury & ECAN Joint Public BBQ
DESCRIPTION:Combined Sausage Sizzle & Education Day (ECAN)\nJoin us down on the boat ramp with ECAN\, come grab a FREE Sausage. Got any questions about boating\, local area or the laws at sea? \nAsk us all the questions! \nCoastguard Canterbury will be joined by Environment Canterbury\, to answer your questions and update you on the local bylaws. \nIf you do have any questions for Coastguard Canterbury feel free to Contact Us. \n
URL:https://www.coastguardcanterbury.org.nz/event/coastguard-canterbury/
LOCATION:Naval Point Boat Ramp\, Lyttelton\, New Zealand
ATTACH;FMTTYPE=image/jpeg:https://www.coastguardcanterbury.org.nz/wp-content/uploads/2018/01/25592095_932396126910979_2006767293716394237_n.jpg
ORGANIZER;CN="Coastguard%20Canterbury":MAILTO:sponsorship@coastguardcanterbury.org.nz
END:VEVENT
END:VCALENDAR